BEGIN:VCALENDAR
VERSION:2.0
PRODID:-//Palace City Brewing, LLC - ECPv6.15.20//NONSGML v1.0//EN
CALSCALE:GREGORIAN
METHOD:PUBLISH
X-WR-CALNAME:Palace City Brewing, LLC
X-ORIGINAL-URL:https://palacecitybrewing.com
X-WR-CALDESC:Events for Palace City Brewing, LLC
REFRESH-INTERVAL;VALUE=DURATION:PT1H
X-Robots-Tag:noindex
X-PUBLISHED-TTL:PT1H
BEGIN:VTIMEZONE
TZID:America/Chicago
BEGIN:DAYLIGHT
TZOFFSETFROM:-0600
TZOFFSETTO:-0500
TZNAME:CDT
DTSTART:20250309T080000
END:DAYLIGHT
BEGIN:STANDARD
TZOFFSETFROM:-0500
TZOFFSETTO:-0600
TZNAME:CST
DTSTART:20251102T070000
END:STANDARD
BEGIN:DAYLIGHT
TZOFFSETFROM:-0600
TZOFFSETTO:-0500
TZNAME:CDT
DTSTART:20260308T080000
END:DAYLIGHT
BEGIN:STANDARD
TZOFFSETFROM:-0500
TZOFFSETTO:-0600
TZNAME:CST
DTSTART:20261101T070000
END:STANDARD
BEGIN:DAYLIGHT
TZOFFSETFROM:-0600
TZOFFSETTO:-0500
TZNAME:CDT
DTSTART:20270314T080000
END:DAYLIGHT
BEGIN:STANDARD
TZOFFSETFROM:-0500
TZOFFSETTO:-0600
TZNAME:CST
DTSTART:20271107T070000
END:STANDARD
END:VTIMEZONE
BEGIN:VEVENT
DTSTART;TZID=America/Chicago:20260418T120000
DTEND;TZID=America/Chicago:20260418T200000
DTSTAMP:20260420T040140
CREATED:20260225T202246Z
LAST-MODIFIED:20260225T202246Z
UID:10002859-1776513600-1776542400@palacecitybrewing.com
SUMMARY:Food Trucks - Cowpoke
DESCRIPTION:
URL:https://palacecitybrewing.com/event/food-trucks-cowpoke/
END:VEVENT
BEGIN:VEVENT
DTSTART;TZID=America/Chicago:20260418T090000
DTEND;TZID=America/Chicago:20260418T100000
DTSTAMP:20260420T040140
CREATED:20251008T174432Z
LAST-MODIFIED:20260206T200054Z
UID:10001019-1776502800-1776506400@palacecitybrewing.com
SUMMARY:Saturday Yoga @ The Overlook
DESCRIPTION:
URL:https://palacecitybrewing.com/event/saturday-yoga-the-overlook-2-2/2026-04-18/
LOCATION:The Overlook at Palace City Brewing\, 227 W Railroad Ave\, Mitchell\, SD\, 57301
END:VEVENT
BEGIN:VEVENT
DTSTART;TZID=America/Chicago:20260417T160000
DTEND;TZID=America/Chicago:20260417T203000
DTSTAMP:20260420T040140
CREATED:20260225T202152Z
LAST-MODIFIED:20260401T190334Z
UID:10002858-1776441600-1776457800@palacecitybrewing.com
SUMMARY:Food Truck - Scotty D's
DESCRIPTION:
URL:https://palacecitybrewing.com/event/food-truck-scotty-ds-3/
ATTACH;FMTTYPE=image/webp:https://palacecitybrewing.com/wp-content/uploads/2024/08/9.webp
END:VEVENT
BEGIN:VEVENT
DTSTART;TZID=America/Chicago:20260411T120000
DTEND;TZID=America/Chicago:20260411T200000
DTSTAMP:20260420T040140
CREATED:20260225T201945Z
LAST-MODIFIED:20260401T205436Z
UID:10002856-1775908800-1775937600@palacecitybrewing.com
SUMMARY:Food Truck - Lumpia on Wheelz
DESCRIPTION:
URL:https://palacecitybrewing.com/event/food-truck-lumpia-on-wheelz/
CATEGORIES:Highlight
ATTACH;FMTTYPE=image/jpeg:https://palacecitybrewing.com/wp-content/uploads/2026/04/Lumpia.jpg
END:VEVENT
BEGIN:VEVENT
DTSTART;TZID=America/Chicago:20260411T090000
DTEND;TZID=America/Chicago:20260411T100000
DTSTAMP:20260420T040140
CREATED:20251008T174432Z
LAST-MODIFIED:20260206T200054Z
UID:10001018-1775898000-1775901600@palacecitybrewing.com
SUMMARY:Saturday Yoga @ The Overlook
DESCRIPTION:
URL:https://palacecitybrewing.com/event/saturday-yoga-the-overlook-2-2/2026-04-11/
LOCATION:The Overlook at Palace City Brewing\, 227 W Railroad Ave\, Mitchell\, SD\, 57301
END:VEVENT
BEGIN:VEVENT
DTSTART;TZID=America/Chicago:20260404T090000
DTEND;TZID=America/Chicago:20260404T100000
DTSTAMP:20260420T040140
CREATED:20251008T174432Z
LAST-MODIFIED:20260206T200054Z
UID:10001017-1775293200-1775296800@palacecitybrewing.com
SUMMARY:Saturday Yoga @ The Overlook
DESCRIPTION:
URL:https://palacecitybrewing.com/event/saturday-yoga-the-overlook-2-2/2026-04-04/
LOCATION:The Overlook at Palace City Brewing\, 227 W Railroad Ave\, Mitchell\, SD\, 57301
END:VEVENT
BEGIN:VEVENT
DTSTART;TZID=America/Chicago:20260328T140000
DTEND;TZID=America/Chicago:20260328T180000
DTSTAMP:20260420T040140
CREATED:20260202T205014Z
LAST-MODIFIED:20260202T205014Z
UID:10002845-1774706400-1774720800@palacecitybrewing.com
SUMMARY:Private Event
DESCRIPTION:
URL:https://palacecitybrewing.com/event/private-event-3/
LOCATION:The Overlook at Palace City Brewing\, 227 W Railroad Ave\, Mitchell\, SD\, 57301
END:VEVENT
BEGIN:VEVENT
DTSTART;TZID=America/Chicago:20260328T120000
DTEND;TZID=America/Chicago:20260328T200000
DTSTAMP:20260420T040140
CREATED:20260225T201851Z
LAST-MODIFIED:20260324T202345Z
UID:10002854-1774699200-1774728000@palacecitybrewing.com
SUMMARY:Food Truck - Backyard BBQ
DESCRIPTION:
URL:https://palacecitybrewing.com/event/food-truck-backyard-bbq/
CATEGORIES:Highlight
ATTACH;FMTTYPE=image/jpeg:https://palacecitybrewing.com/wp-content/uploads/2024/08/daniel-vogel-sVothhm7iRI-unsplash-1.jpg
END:VEVENT
BEGIN:VEVENT
DTSTART;TZID=America/Chicago:20260328T120000
DTEND;TZID=America/Chicago:20260328T170000
DTSTAMP:20260420T040140
CREATED:20260225T202037Z
LAST-MODIFIED:20260327T051347Z
UID:10002857-1774699200-1774717200@palacecitybrewing.com
SUMMARY:WINTER GAMES @ Palace City Brewing
DESCRIPTION:
URL:https://palacecitybrewing.com/event/winter-games-palace-city-brewing/
CATEGORIES:Highlight
ATTACH;FMTTYPE=image/png:https://palacecitybrewing.com/wp-content/uploads/2024/10/Image20241030121550.png
END:VEVENT
BEGIN:VEVENT
DTSTART;TZID=America/Chicago:20260328T090000
DTEND;TZID=America/Chicago:20260328T100000
DTSTAMP:20260420T040140
CREATED:20251008T174432Z
LAST-MODIFIED:20260206T200054Z
UID:10001016-1774688400-1774692000@palacecitybrewing.com
SUMMARY:Saturday Yoga @ The Overlook
DESCRIPTION:
URL:https://palacecitybrewing.com/event/saturday-yoga-the-overlook-2-2/2026-03-28/
LOCATION:The Overlook at Palace City Brewing\, 227 W Railroad Ave\, Mitchell\, SD\, 57301
END:VEVENT
BEGIN:VEVENT
DTSTART;TZID=America/Chicago:20260321T090000
DTEND;TZID=America/Chicago:20260321T100000
DTSTAMP:20260420T040140
CREATED:20251008T174432Z
LAST-MODIFIED:20260206T200054Z
UID:10001015-1774083600-1774087200@palacecitybrewing.com
SUMMARY:Saturday Yoga @ The Overlook
DESCRIPTION:
URL:https://palacecitybrewing.com/event/saturday-yoga-the-overlook-2-2/2026-03-21/
LOCATION:The Overlook at Palace City Brewing\, 227 W Railroad Ave\, Mitchell\, SD\, 57301
END:VEVENT
BEGIN:VEVENT
DTSTART;TZID=America/Chicago:20260320T180000
DTEND;TZID=America/Chicago:20260320T210000
DTSTAMP:20260420T040140
CREATED:20260225T201859Z
LAST-MODIFIED:20260323T192928Z
UID:10002855-1774029600-1774040400@palacecitybrewing.com
SUMMARY:Live Music - Jake Stack
DESCRIPTION:
URL:https://palacecitybrewing.com/event/live-music-jack-stack/
END:VEVENT
BEGIN:VEVENT
DTSTART;TZID=America/Chicago:20260320T163000
DTEND;TZID=America/Chicago:20260320T203000
DTSTAMP:20260420T040140
CREATED:20260225T201753Z
LAST-MODIFIED:20260225T201753Z
UID:10002853-1774024200-1774038600@palacecitybrewing.com
SUMMARY:Food Truck - Scotty D's
DESCRIPTION:
URL:https://palacecitybrewing.com/event/food-truck-scotty-ds-2/
END:VEVENT
END:VCALENDAR